BEGIN:VCALENDAR
VERSION:2.0
PRODID:-//RIGHTHERE//CALENDARIZE IT V3.2//EN
BEGIN:VTIMEZONE
TZID:Europe/Berlin
X-MICROSOFT-CDO-TZID:4
BEGIN:STANDARD
DTSTART:20251026T010000
TZOFFSETFROM:+0200
TZOFFSETTO:+0100
TZNAME:CET
END:STANDARD
BEGIN:DAYLIGHT
DTSTART:20260329T010000
TZOFFSETFROM:+0100
TZOFFSETTO:+0200
TZNAME:CEST
END:DAYLIGHT
BEGIN:STANDARD
DTSTART:20261025T010000
TZOFFSETFROM:+0200
TZOFFSETTO:+0100
TZNAME:CET
END:STANDARD
END:VTIMEZONE
BEGIN:VEVENT
UID:3842-events@www.oberschule-sebaldsbrueck.de
DTSTART;TZID=Europe/Berlin:20220624T100000
DTEND;TZID=Europe/Berlin:20220624T120000
DTSTAMP;TZID=Europe/Berlin:20220608T152818
SUMMARY:Schwanensee am 24.06. um 10 Uhr
URL:https://www.oberschule-sebaldsbrueck.de/events/schwanensee-ein-tanz-und
 -musik-projekt-2/
LOCATION:Draußenschule
END:VEVENT
END:VCALENDAR